BEGIN:VCALENDAR
VERSION:2.0
PRODID:-//Sommerfestspiele Wiesbaden - ECPv6.15.20//NONSGML v1.0//EN
CALSCALE:GREGORIAN
METHOD:PUBLISH
X-WR-CALNAME:Sommerfestspiele Wiesbaden
X-ORIGINAL-URL:https://sommerfestspiele-wiesbaden.com
X-WR-CALDESC:Veranstaltungen für Sommerfestspiele Wiesbaden
REFRESH-INTERVAL;VALUE=DURATION:PT1H
X-Robots-Tag:noindex
X-PUBLISHED-TTL:PT1H
BEGIN:VTIMEZONE
TZID:Europe/Berlin
BEGIN:DAYLIGHT
TZOFFSETFROM:+0100
TZOFFSETTO:+0200
TZNAME:CEST
DTSTART:20230326T010000
END:DAYLIGHT
BEGIN:STANDARD
TZOFFSETFROM:+0200
TZOFFSETTO:+0100
TZNAME:CET
DTSTART:20231029T010000
END:STANDARD
BEGIN:DAYLIGHT
TZOFFSETFROM:+0100
TZOFFSETTO:+0200
TZNAME:CEST
DTSTART:20240331T010000
END:DAYLIGHT
BEGIN:STANDARD
TZOFFSETFROM:+0200
TZOFFSETTO:+0100
TZNAME:CET
DTSTART:20241027T010000
END:STANDARD
BEGIN:DAYLIGHT
TZOFFSETFROM:+0100
TZOFFSETTO:+0200
TZNAME:CEST
DTSTART:20250330T010000
END:DAYLIGHT
BEGIN:STANDARD
TZOFFSETFROM:+0200
TZOFFSETTO:+0100
TZNAME:CET
DTSTART:20251026T010000
END:STANDARD
END:VTIMEZONE
BEGIN:VEVENT
DTSTART;TZID=Europe/Berlin:20240725T200000
DTEND;TZID=Europe/Berlin:20240725T223000
DTSTAMP:20260420T165233
CREATED:20240523T121359Z
LAST-MODIFIED:20240726T093612Z
UID:1925-1721937600-1721946600@sommerfestspiele-wiesbaden.com
SUMMARY:Salty Sisters | Glitzer-Glamour-Girls-Revue
DESCRIPTION:Dieser Sommer auf Burg Sonnenberg steht ganz im Spotlight der Show. \nAngesagt haben sich am 25. Juli die Salty Sisters mit ihrer Glitzer-Glamour-Girls-Revue.   Eine wilde Zeitreise! Von den Goldenen 20iger Jahren bis zu den Bunten Achtzigern! Als Obolus die spannende Gegenwart. \nNachtclubs\, PinUps\, Petticoats und fliegende Luftballons. Das Publikum erwartet beeindruckende Kostüme\, unglaubliche Tänze und Musicalkult nebst Magie & Jonglage. \n  \nNostalgisch und emotional. Frauenpower! Gesang! Burlesque! \nThere’s no business like Show Business! \n  \n Tickets\n  \nSpielort: Burg Sonnenberg\, Talstraße 1 in 65191 Wiesbaden \n  \nProgramm der Sommerfestspiele 2024 | weitere Termine \n07. Jul | 15.30 Die Schöne & das Biest | Kindertheater | Premiere\n08. Jul | 9.30 Die Schöne & das Biest | Vorstellungen für Schulen & Kindergärten\n09. Jul | 9.30 Die Schöne & das Biest | Vorstellungen für Schulen & Kindergärten\n10. Jul | 9.30 Die Schöne & das Biest | Vorstellungen für Schulen & Kindergärten\n11. Jul | 9.30 Die Schöne & das Biest | Vorstellungen für Schulen & Kindergärten\n11. Jul | 20.00 Mord in Aussicht | Impro-Krimi\n13. Jul | 15.30 Die Schöne & das Biest | Kindertheater\n14. Jul | 15.30 Die Schöne & das Biest | Kindertheater\n18. Jul | 19.30 Grand Poetry Slam | Poetry Slam auf der Burg\n19. Jul | 20.00 The Beauty & the Beast | adults only | Premiere\n20. Jul | 15.30 Die Schöne & das Biest | Kindertheater\n20. Jul | 20.00 The Beauty & the Beast | adults only\n21. Jul | 15.30 Die Schöne & das Biest | Kindertheater\n25. Jul | 20.00 Salty Sisters | Glitzer-Glamour-Girls-Revue\n26. Jul | 20.00 Gina Colada & Glinda Glanz | 2 Drag Queens\n27. Jul | 15.30 Die Schöne & das Biest | Kindertheater\n27. Jul | 20.00 The Beauty & the Beast | adults only\n28. Jul | 15.30 Die Schöne & das Biest | Kindertheater
URL:https://sommerfestspiele-wiesbaden.com/event/salty-sisters-glitzer-glamour-girls-revue/
LOCATION:Burg Sonnenberg\, Talstraße 1\, Wiesbaden\, 65191\, Deutschland
CATEGORIES:(f)einkunst,Sommerfestspiele
ATTACH;FMTTYPE=image/jpeg:https://sommerfestspiele-wiesbaden.com/wp-content/uploads/2024/05/SaltySistsers_werbung1.jpg
END:VEVENT
END:VCALENDAR